BEGIN:VCALENDAR
VERSION:2.0
PRODID:-//Western Playland - ECPv6.15.20//NONSGML v1.0//EN
CALSCALE:GREGORIAN
METHOD:PUBLISH
X-ORIGINAL-URL:https://westernplayland.com
X-WR-CALDESC:Events for Western Playland
REFRESH-INTERVAL;VALUE=DURATION:PT1H
X-Robots-Tag:noindex
X-PUBLISHED-TTL:PT1H
BEGIN:VTIMEZONE
TZID:UTC
BEGIN:STANDARD
TZOFFSETFROM:+0000
TZOFFSETTO:+0000
TZNAME:UTC
DTSTART:20250101T000000
END:STANDARD
END:VTIMEZONE
BEGIN:VTIMEZONE
TZID:America/Chicago
BEGIN:DAYLIGHT
TZOFFSETFROM:-0600
TZOFFSETTO:-0500
TZNAME:CDT
DTSTART:20250309T080000
END:DAYLIGHT
BEGIN:STANDARD
TZOFFSETFROM:-0500
TZOFFSETTO:-0600
TZNAME:CST
DTSTART:20251102T070000
END:STANDARD
BEGIN:DAYLIGHT
TZOFFSETFROM:-0600
TZOFFSETTO:-0500
TZNAME:CDT
DTSTART:20260308T080000
END:DAYLIGHT
BEGIN:STANDARD
TZOFFSETFROM:-0500
TZOFFSETTO:-0600
TZNAME:CST
DTSTART:20261101T070000
END:STANDARD
BEGIN:DAYLIGHT
TZOFFSETFROM:-0600
TZOFFSETTO:-0500
TZNAME:CDT
DTSTART:20270314T080000
END:DAYLIGHT
BEGIN:STANDARD
TZOFFSETFROM:-0500
TZOFFSETTO:-0600
TZNAME:CST
DTSTART:20271107T070000
END:STANDARD
END:VTIMEZONE
BEGIN:VEVENT
DTSTART;TZID=UTC:20260617T180000
DTEND;TZID=UTC:20260730T220000
DTSTAMP:20260419T074907
CREATED:20260125T033241Z
LAST-MODIFIED:20260125T033241Z
UID:10000736-1781719200-1785448800@westernplayland.com
SUMMARY:Midweek Savings for Season Pass Holders
DESCRIPTION:Attention Season Pass Holders! \nStarting June 17th\, you can bring a friend to Western Playland\, and they’ll enjoy unlimited rides all day long for just $19.99 plus tax every Wednesday and Thursday in June and July. Have some summer fun and save. Don’t miss out!
URL:https://westernplayland.com/event/midweek-savings-for-season-pass-holders/
CATEGORIES:Event Promotions
ATTACH;FMTTYPE=image/jpeg:https://westernplayland.com/wp-content/uploads/2026/01/2026-SP-Summer-19.99.jpg
END:VEVENT
BEGIN:VEVENT
DTSTART;TZID=UTC:20260701T080000
DTEND;TZID=UTC:20260730T170000
DTSTAMP:20260419T074907
CREATED:20260130T203932Z
LAST-MODIFIED:20260130T203932Z
UID:10000744-1782892800-1785430800@westernplayland.com
SUMMARY:July Summer Savings !
DESCRIPTION:Unlimited rides July 1\, 2\, 8\, 9\, 15\, 16\, 22\, 23\, 29 and 30 for only $20.26 plus tax. What great savings! PLUS\, indulge in our hot dog special for only $5.00 plus tax.  Family fun and endless rides every Wednesday and Thursday in July . \n 
URL:https://westernplayland.com/event/july-summer-savings/
CATEGORIES:Event Promotions
ATTACH;FMTTYPE=image/jpeg:https://westernplayland.com/wp-content/uploads/2026/01/UPDATE2026July-Wed-Thur.-Summer.jpg
END:VEVENT
BEGIN:VEVENT
DTSTART;TZID=America/Chicago:20260703T180000
DTEND;TZID=America/Chicago:20260801T220000
DTSTAMP:20260419T074907
CREATED:20260125T035151Z
LAST-MODIFIED:20260129T232107Z
UID:10000739-1783101600-1785621600@westernplayland.com
SUMMARY:Summer Dollar Days in July
DESCRIPTION:Friday Dollar Days in July — Big fun. Small dollars starting on July 3rd. \nExperience the ultimate summer fun with Dollar Days on Fridays in July\, where every moment is a bargain adventure! Dive into a world of excitement with $5.00 plus tax admission\, granting you access to a day filled with laughter and joy. Thrill-seekers can revel in the excitement of $1.00 plus tax ride tickets\, ensuring endless spins\, twists\, and turns on your favorite attractions without breaking the bank. \nPLUS Every Friday in July get all your favorite snacks at an affordable price. $1 popcorn\,  $1 hot dogs\,  $1 soda\, and  $1 churros. \nGather your friends and family for an unforgettable day of affordable fun under the sun! Some rides require two tickets. Southwest Slinger is excluded from this promotion. Promotion available on July 3rd\, July 10th\, July 17th\, July 24th\, and July 31st\, Prices subject to tax.
URL:https://westernplayland.com/event/summer-dollar-days-in-july/
CATEGORIES:Event Promotions
ATTACH;FMTTYPE=image/jpeg:https://westernplayland.com/wp-content/uploads/2026/01/UPDATE2026-JulyFriday-Dollar-Days-.jpg
END:VEVENT
BEGIN:VEVENT
DTSTART;TZID=UTC:20260704T140000
DTEND;TZID=UTC:20260704T220000
DTSTAMP:20260419T074907
CREATED:20260125T034431Z
LAST-MODIFIED:20260125T034431Z
UID:10000738-1783173600-1783202400@westernplayland.com
SUMMARY:July 4th Fireworks Celebration!
DESCRIPTION:July 4th Fireworks Show is at 9pm . Western Playland will be open from 2 pm to 10pm. \n Join us for an unforgettable celebration at the annual July 4th fireworks show! As the sun sets and anticipation builds\, find a cozy spot to see the dazzling fireworks display\, set to light up the night sky at 9 PM. The show promises to be a breathtaking experience\, featuring vibrant colors and mesmerizing patterns that honor the spirit of Independence Day. \n 
URL:https://westernplayland.com/event/july-4th-fireworks-celebration/
CATEGORIES:Event Promotions
ATTACH;FMTTYPE=image/jpeg:https://westernplayland.com/wp-content/uploads/2026/01/2026-July-4th-.jpg
END:VEVENT
END:VCALENDAR