BEGIN:VCALENDAR
VERSION:2.0
PRODID:-//Western Playland - ECPv6.15.20//NONSGML v1.0//EN
CALSCALE:GREGORIAN
METHOD:PUBLISH
X-ORIGINAL-URL:https://westernplayland.com
X-WR-CALDESC:Events for Western Playland
REFRESH-INTERVAL;VALUE=DURATION:PT1H
X-Robots-Tag:noindex
X-PUBLISHED-TTL:PT1H
BEGIN:VTIMEZONE
TZID:UTC
BEGIN:STANDARD
TZOFFSETFROM:+0000
TZOFFSETTO:+0000
TZNAME:UTC
DTSTART:20250101T000000
END:STANDARD
END:VTIMEZONE
BEGIN:VEVENT
DTSTART;TZID=UTC:20260925T140000
DTEND;TZID=UTC:20261101T220000
DTSTAMP:20260419T135912
CREATED:20260125T035848Z
LAST-MODIFIED:20260205T211947Z
UID:10000740-1790344800-1793570400@westernplayland.com
SUMMARY:2026 Freaky Frights
DESCRIPTION:Are you ready for Freaky Frights in 2026? First night of Freaky Frights starts on Friday\, Sept. 25th . Visit us all October long and experience the thrills and chills. Sweet treats by day ! Scares at night ! It’s Freaky Frights every weekend in October. \n  \n 
URL:https://westernplayland.com/event/2026-freaky-frights/
CATEGORIES:Event Promotions
ATTACH;FMTTYPE=image/jpeg:https://westernplayland.com/wp-content/uploads/2026/02/2026-Nights-if-Freaky-Fright-Basic-.jpg
END:VEVENT
BEGIN:VEVENT
DTSTART;TZID=UTC:20261101T110000
DTEND;TZID=UTC:20261117T180000
DTSTAMP:20260419T135912
CREATED:20260125T175322Z
LAST-MODIFIED:20260125T175322Z
UID:10000743-1793530800-1794938400@westernplayland.com
SUMMARY:Dollar Days in November
DESCRIPTION:Last call for fun and thrills! \nSeason finale fun for less. Big fun\, small prices! \nEnd the season with one last unforgettable ride with $1.00 plus tax ride tickets and $5.00 plus tax admission. Come ride your favorite ride one last time in 2026. Some rides may require two tickets. Southwest Slinger is not included in this promotion.  \n \n 
URL:https://westernplayland.com/event/dollar-days-in-november/
CATEGORIES:Event Promotions
ATTACH;FMTTYPE=image/jpeg:https://westernplayland.com/wp-content/uploads/2026/01/2026-Nov-Dollar-Days-.jpg
END:VEVENT
END:VCALENDAR