BEGIN:VCALENDAR
VERSION:2.0
PRODID:-//Western Playland - ECPv6.15.20//NONSGML v1.0//EN
CALSCALE:GREGORIAN
METHOD:PUBLISH
X-ORIGINAL-URL:https://westernplayland.com
X-WR-CALDESC:Events for Western Playland
REFRESH-INTERVAL;VALUE=DURATION:PT1H
X-Robots-Tag:noindex
X-PUBLISHED-TTL:PT1H
BEGIN:VTIMEZONE
TZID:UTC
BEGIN:STANDARD
TZOFFSETFROM:+0000
TZOFFSETTO:+0000
TZNAME:UTC
DTSTART:20240101T000000
END:STANDARD
END:VTIMEZONE
BEGIN:VEVENT
DTSTART;TZID=UTC:20251004T140000
DTEND;TZID=UTC:20251004T220000
DTSTAMP:20260419T074137
CREATED:20241115T170611Z
LAST-MODIFIED:20250823T203217Z
UID:10000296-1759586400-1759615200@westernplayland.com
SUMMARY:Open: 2PM – 10PM
DESCRIPTION:
URL:https://westernplayland.com/event/open-5pm-10pm-27/
CATEGORIES:2PM-9PM
END:VEVENT
BEGIN:VEVENT
DTSTART;TZID=UTC:20251011T140000
DTEND;TZID=UTC:20251011T220000
DTSTAMP:20260419T074137
CREATED:20241115T170625Z
LAST-MODIFIED:20250823T203032Z
UID:10000297-1760191200-1760220000@westernplayland.com
SUMMARY:Open: 2PM – 10PM
DESCRIPTION:
URL:https://westernplayland.com/event/open-5pm-10pm-28/
CATEGORIES:2PM-9PM
END:VEVENT
BEGIN:VEVENT
DTSTART;TZID=UTC:20251018T140000
DTEND;TZID=UTC:20251018T220000
DTSTAMP:20260419T074137
CREATED:20241115T164905Z
LAST-MODIFIED:20250823T202819Z
UID:10000265-1760796000-1760824800@westernplayland.com
SUMMARY:Open: 2PM – 10PM
DESCRIPTION:
URL:https://westernplayland.com/event/open-3pm-8pm-27/
CATEGORIES:2PM-9PM
END:VEVENT
BEGIN:VEVENT
DTSTART;TZID=UTC:20251025T140000
DTEND;TZID=UTC:20251025T220000
DTSTAMP:20260419T074137
CREATED:20241115T164930Z
LAST-MODIFIED:20250823T202655Z
UID:10000267-1761400800-1761429600@westernplayland.com
SUMMARY:Open: 2PM – 10PM
DESCRIPTION:
URL:https://westernplayland.com/event/open-3pm-8pm-29/
CATEGORIES:2PM-9PM
END:VEVENT
END:VCALENDAR